BEGIN:VCALENDAR
VERSION:2.0
PRODID:-//AZNHA - ECPv6.15.12.2//NONSGML v1.0//EN
CALSCALE:GREGORIAN
METHOD:PUBLISH
X-WR-CALNAME:AZNHA
X-ORIGINAL-URL:https://aznha.org
X-WR-CALDESC:Events for AZNHA
REFRESH-INTERVAL;VALUE=DURATION:PT1H
X-Robots-Tag:noindex
X-PUBLISHED-TTL:PT1H
BEGIN:VTIMEZONE
TZID:America/Phoenix
BEGIN:STANDARD
TZOFFSETFROM:-0700
TZOFFSETTO:-0700
TZNAME:MST
DTSTART:20230101T000000
END:STANDARD
END:VTIMEZONE
BEGIN:VEVENT
DTSTART;TZID=America/Phoenix:20240918T113000
DTEND;TZID=America/Phoenix:20240918T130000
DTSTAMP:20260423T064935
CREATED:20240813T194700Z
LAST-MODIFIED:20240909T171746Z
UID:13649-1726659000-1726664400@aznha.org
SUMMARY:AzNHA Education Speaker Series (Sep 2024)
DESCRIPTION:Choose How You Age!\nFeaturing:  Ryan Booher\, VP Vitality SarcoHealth (Research•Clinics•Advocacy)  \nMost adults over age 50 are dealing with the medical condition known as sarcopenia. This progressive loss of muscle mass and strength is rarely talked about and the #1 cause of falls and premature loss of independence. Ryan will share the importance of keeping our muscles strong and explain the science and research around how to reverse this process naturally. \nWhen the proper strength training and protocols are applied\, most people start to feel changes in their first 3-4 weeks\, and typically start to notice significant meaningful changes after 6-8 weeks.  Balance can be restored.  The good news is that the people you serve can regain strength and muscle quality (and quality of life) and you’ll be able to share this information as one more tool in your organization’s effort to improve your client’s overall outcome.  Join us to learn more about something WE ALL need to be aware of for out own health as well! \nAbout the Speaker\n\nRyan Booher has served as vice president of Vitality SarcoHealth (Research•Clinics•Advocacy) for over a decade. He is a passionate leader\, brand ambassador\, and motivational speaker—wholly devoted to the company’s redemptive mission: To redefine aging and what you think about aging. Ryan has lived in the valley for nearly 40 years. He is married to the love of his life\, Krystal\, and they have three young boys. About Vitality SarcoHealth. For over 20 years\, Vitality SarcoHealth has been forging a path to aging the way it is supposed to be—providing a safe environment for the people to age strong in every sense of the word. Its SarcoHealth clinics are the ideal destination for those who want to live life with the highest vitality possible. \n\n\nRSVP at least 48 hours prior to the start of the program to receive the access link.\nThis program will be held on Zoom.  You will need a device (computer\, tablet or phone) with speakers and a strong internet connection to participate.\nNot able to join us live? Visit our program archive; recorded programs appear about 1 week after the live broadcast. \nAZNHA’s Education Speaker Series are complimentary for members only. For information on becoming a member\, click here. RSVP’s are required to receive the access instructions for the live program\, plan to RSVP at least 48 hours prior to the start of the program. \nFor assistance\, please contact the AzNHA office at 602-283-3503 info@aznha.org.
URL:https://aznha.org/event/aznha-education-speaker-series-sep-2024-2/
LOCATION:Zoom (Virtual Program)
CATEGORIES:AzNHA Education
ORGANIZER;CN="AzNHA":MAILTO:info@aznha.org
END:VEVENT
END:VCALENDAR