BEGIN:VCALENDAR
VERSION:2.0
PRODID:-//AZNHA - ECPv6.15.12.2//NONSGML v1.0//EN
CALSCALE:GREGORIAN
METHOD:PUBLISH
X-ORIGINAL-URL:https://aznha.org
X-WR-CALDESC:Events for AZNHA
REFRESH-INTERVAL;VALUE=DURATION:PT1H
X-Robots-Tag:noindex
X-PUBLISHED-TTL:PT1H
BEGIN:VTIMEZONE
TZID:America/Phoenix
BEGIN:STANDARD
TZOFFSETFROM:-0700
TZOFFSETTO:-0700
TZNAME:MST
DTSTART:20230101T000000
END:STANDARD
END:VTIMEZONE
BEGIN:VEVENT
DTSTART;TZID=America/Phoenix:20250815T080000
DTEND;TZID=America/Phoenix:20250815T160000
DTSTAMP:20260421T093743
CREATED:20250417T181737Z
LAST-MODIFIED:20250603T230041Z
UID:15965-1755244800-1755273600@aznha.org
SUMMARY:AzNHA 2025 Conference
DESCRIPTION:AzNHA’s 13th Annual Conference – August 15\, 2025 (Tempe\, AZ)\nVisit the conference website for more information. \nJoin us for our annual conference for Arizona’s in-home care community! \nTake away relevant\, practical information\, ideas and tactics to unlock your agency’s full potential. This 1-day conference is designed for owners and senior leadership in an in-home care company. \nAttendee Registration Information available here. \nInterested in being a Sponsor or Exhibitor visit here. \n 
URL:https://aznha.org/event/aznha-2025-conference/
CATEGORIES:AzNHA Conference
ORGANIZER;CN="AzNHA":MAILTO:info@aznha.org
END:VEVENT
BEGIN:VEVENT
DTSTART;TZID=America/Phoenix:20240823T080000
DTEND;TZID=America/Phoenix:20240823T160000
DTSTAMP:20260421T093743
CREATED:20240205T193059Z
LAST-MODIFIED:20240821T214728Z
UID:13196-1724400000-1724428800@aznha.org
SUMMARY:AzNHA 2024 Conference
DESCRIPTION:AzNHA’s 12th Annual Conference – August 23\, 2024 (Scottsdale\, AZ)\nVisit the conference website: aznha.org/2024conference \nJoin us for our annual conference for Arizona’s in-home care community! \nSponsor/Exhibitor Registration Opens February 15.\nAttendee Registration Opens May 1. \n 
URL:https://aznha.org/event/2024conference/
LOCATION:Chaparral Conference Center\, 5001 N Scottsdale Rd\, Scottsdale\, AZ\, 85250\, United States
CATEGORIES:AzNHA Conference
ORGANIZER;CN="AZNHA Board of Directors":MAILTO:info@aznha.org
END:VEVENT
END:VCALENDAR